BEGIN:VCALENDAR
VERSION:2.0
PRODID:-//Sutter Buttes Garden Club - ECPv6.15.20//NONSGML v1.0//EN
CALSCALE:GREGORIAN
METHOD:PUBLISH
X-WR-CALNAME:Sutter Buttes Garden Club
X-ORIGINAL-URL:https://sutterbuttesgardenclub.com
X-WR-CALDESC:Events for Sutter Buttes Garden Club
REFRESH-INTERVAL;VALUE=DURATION:PT1H
X-Robots-Tag:noindex
X-PUBLISHED-TTL:PT1H
BEGIN:VTIMEZONE
TZID:UTC
BEGIN:STANDARD
TZOFFSETFROM:+0000
TZOFFSETTO:+0000
TZNAME:UTC
DTSTART:20250101T000000
END:STANDARD
END:VTIMEZONE
BEGIN:VEVENT
DTSTART;TZID=UTC:20260428T103000
DTEND;TZID=UTC:20260428T170000
DTSTAMP:20260423T101329
CREATED:20250825T052939Z
LAST-MODIFIED:20250825T052939Z
UID:1597-1777372200-1777395600@sutterbuttesgardenclub.com
SUMMARY:Garden Show & Tell
DESCRIPTION:
URL:https://sutterbuttesgardenclub.com/event/garden-show-tell/
ATTACH;FMTTYPE=image/jpeg:https://sutterbuttesgardenclub.com/wp-content/uploads/2025/08/img6-min.jpg
END:VEVENT
BEGIN:VEVENT
DTSTART;TZID=UTC:20260526T103000
DTEND;TZID=UTC:20260526T170000
DTSTAMP:20260423T101329
CREATED:20250825T053138Z
LAST-MODIFIED:20250825T053138Z
UID:1600-1779791400-1779814800@sutterbuttesgardenclub.com
SUMMARY:Special Guest
DESCRIPTION:
URL:https://sutterbuttesgardenclub.com/event/special-guest/
END:VEVENT
END:VCALENDAR